BEGIN:VCALENDAR
VERSION:2.0
PRODID:-//Women&#039;s Canadian Club - ECPv6.15.18//NONSGML v1.0//EN
CALSCALE:GREGORIAN
METHOD:PUBLISH
X-WR-CALNAME:Women&#039;s Canadian Club
X-ORIGINAL-URL:https://www.womenscanadianclublondon.com
X-WR-CALDESC:Events for Women&#039;s Canadian Club
REFRESH-INTERVAL;VALUE=DURATION:PT1H
X-Robots-Tag:noindex
X-PUBLISHED-TTL:PT1H
BEGIN:VTIMEZONE
TZID:America/Toronto
BEGIN:DAYLIGHT
TZOFFSETFROM:-0500
TZOFFSETTO:-0400
TZNAME:EDT
DTSTART:20240310T070000
END:DAYLIGHT
BEGIN:STANDARD
TZOFFSETFROM:-0400
TZOFFSETTO:-0500
TZNAME:EST
DTSTART:20241103T060000
END:STANDARD
BEGIN:DAYLIGHT
TZOFFSETFROM:-0500
TZOFFSETTO:-0400
TZNAME:EDT
DTSTART:20250309T070000
END:DAYLIGHT
BEGIN:STANDARD
TZOFFSETFROM:-0400
TZOFFSETTO:-0500
TZNAME:EST
DTSTART:20251102T060000
END:STANDARD
BEGIN:DAYLIGHT
TZOFFSETFROM:-0500
TZOFFSETTO:-0400
TZNAME:EDT
DTSTART:20260308T070000
END:DAYLIGHT
BEGIN:STANDARD
TZOFFSETFROM:-0400
TZOFFSETTO:-0500
TZNAME:EST
DTSTART:20261101T060000
END:STANDARD
END:VTIMEZONE
BEGIN:VEVENT
DTSTART;TZID=America/Toronto:20250424T140000
DTEND;TZID=America/Toronto:20250424T150000
DTSTAMP:20260420T040036
CREATED:20240518T182810Z
LAST-MODIFIED:20250513T193806Z
UID:3714-1745503200-1745506800@www.womenscanadianclublondon.com
SUMMARY:Dr. Rick Quinn
DESCRIPTION:Nudged from the Sidelines: A Journey of Discovery in the Rainforests of Africa and Indonesia \nRick Quinn graduated from the Ontario Veterinary College in Guelph\, Ontario\, Canada in 1981. Following several years of general practice\, he returned for a residency and graduate work in ophthalmology at the University of Guelph. He completed a Doctorate of Veterinary Science in Ophthalmology and became a board-certified veterinary ophthalmologist in 1996. \nFollowing five years of teaching veterinary students\, residents\, and graduate students\, he returned to private referral practice in 2002 and managed eye problems in his animal patients until retiring from clinical practice in 2022. Rick is an adjunct Professor in the Department of Ophthalmology at Western University in London\, Ontario\, Canada. \nHe has served on both the Canadian and global boards of the Jane Goodall Institute and is the co-founder and a director of Docs4GreatApes\, a Canadian wildlife charity active in providing scholarships for African veterinarians to pursue training in wildlife medicine and conservation. He has trekked the rainforests of Africa and Indonesia photographing Great Apes and is the author of Just Like Us—a Veterinarian’s Visual Memoir of Our Vanishing Great Ape Relatives. \nRick is currently pursuing a post-graduate degree in International Relations at the University of Cambridge in the UK. He and his wife Diane\, a family doctor\, have four adult children.
URL:https://www.womenscanadianclublondon.com/event/dr-rick-quinn/
LOCATION:DoubleTree by Hilton Hotel\, 300 King St\, London\, Onatrio\, N6B 1S2\, Canada
CATEGORIES:Past Speaker
ATTACH;FMTTYPE=image/jpeg:https://www.womenscanadianclublondon.com/wp-content/uploads/2024/05/Rick-QuinnImage-1.jpg
END:VEVENT
END:VCALENDAR